BEGIN:VCALENDAR
VERSION:2.0
PRODID:-//Hotel Esprit Montagne - ECPv6.15.20//NONSGML v1.0//EN
CALSCALE:GREGORIAN
METHOD:PUBLISH
X-ORIGINAL-URL:https://www.hotelespritmontagne.com
X-WR-CALDESC:Evenementen voor Hotel Esprit Montagne
REFRESH-INTERVAL;VALUE=DURATION:PT1H
X-Robots-Tag:noindex
X-PUBLISHED-TTL:PT1H
BEGIN:VTIMEZONE
TZID:Europe/Amsterdam
BEGIN:DAYLIGHT
TZOFFSETFROM:+0100
TZOFFSETTO:+0200
TZNAME:CEST
DTSTART:20180325T010000
END:DAYLIGHT
BEGIN:STANDARD
TZOFFSETFROM:+0200
TZOFFSETTO:+0100
TZNAME:CET
DTSTART:20181028T010000
END:STANDARD
BEGIN:DAYLIGHT
TZOFFSETFROM:+0100
TZOFFSETTO:+0200
TZNAME:CEST
DTSTART:20190331T010000
END:DAYLIGHT
BEGIN:STANDARD
TZOFFSETFROM:+0200
TZOFFSETTO:+0100
TZNAME:CET
DTSTART:20191027T010000
END:STANDARD
BEGIN:DAYLIGHT
TZOFFSETFROM:+0100
TZOFFSETTO:+0200
TZNAME:CEST
DTSTART:20200329T010000
END:DAYLIGHT
BEGIN:STANDARD
TZOFFSETFROM:+0200
TZOFFSETTO:+0100
TZNAME:CET
DTSTART:20201025T010000
END:STANDARD
END:VTIMEZONE
BEGIN:VEVENT
DTSTART;TZID=Europe/Amsterdam:20190309T170000
DTEND;TZID=Europe/Amsterdam:20190316T090000
DTSTAMP:20260420T122648
CREATED:20181120T140154Z
LAST-MODIFIED:20181126T150448Z
UID:3600-1552150800-1552726800@www.hotelespritmontagne.com
SUMMARY:Epique Freeride week
DESCRIPTION:Dit jaar organiseren we zelfs een tweede week in samenwerking met Epique\, een Freeride week in de Portes du Soleil. Dus niet alleen veel sneeuw\, maar ook volop zon! Zowel voor skiërs als snowboarders is er een week lang aandacht voor techniek\, veiligheid\, routekeuze en groepsdynamica. Maar ook hoe je thuis al kan plannen door een lawinebericht goed te lezen en de weerberichten te checken. \nKosten bedragen € 1295 en je kan je via Epique opgeven voor de trip of daar informatie inwinnen.
URL:https://www.hotelespritmontagne.com/evenement/epique-freeride-week/
LOCATION:Portes du Soleil\, Frankrijk
CATEGORIES:Sport
ATTACH;FMTTYPE=image/jpeg:https://www.hotelespritmontagne.com/wp-content/uploads/2018/11/Evenementen-Freeride-week.jpg
END:VEVENT
BEGIN:VEVENT
DTSTART;TZID=Europe/Amsterdam:20190119T170000
DTEND;TZID=Europe/Amsterdam:20190126T090000
DTSTAMP:20260420T122648
CREATED:20181120T124537Z
LAST-MODIFIED:20181126T151339Z
UID:3579-1547917200-1548493200@www.hotelespritmontagne.com
SUMMARY:Epique Off-piste week
DESCRIPTION:Elk jaar in januari organiseren we in samenwerking met Epique een Off-piste week in de Portes du Soleil. Zowel voor skiërs als snowboarders is er een week lang aandacht voor techniek\, veiligheid\, routekeuze en groepsdynamica. Maar ook hoe je thuis al kan plannen door een lawinebericht goed te lezen en de weerberichten te checken. \nKosten bedragen € 1245 en je kan je via Epique opgeven voor de trip of daar informatie inwinnen.
URL:https://www.hotelespritmontagne.com/evenement/epique-offpiste-week/
LOCATION:Portes du Soleil\, Frankrijk
CATEGORIES:Sport
ATTACH;FMTTYPE=image/jpeg:https://www.hotelespritmontagne.com/wp-content/uploads/2018/11/Evenementen-Off-piste-week.jpg
END:VEVENT
END:VCALENDAR